Workbook

Sheet ROMAN
A1: Number | B1: ROMAN | C1: Form: 1 | D1: Form: 2 | E1: Form: 3 | F1: Form: 4 | G1: NOTES | J1: 0 | K1: 5 | L1: TRUE | M1: FALSE | N1: hello | O1: 2
A2: 1 | B2: =ROMAN(A2) -> I | C2: =ROMAN($A2,1) -> I | D2: =ROMAN($A2,2) -> I | E2: =ROMAN($A2,3) -> I | F2: =ROMAN($A2,4) -> I | G2: Basic roman number | J2: =ROMAN($A2,J$1) -> I | K2: =ROMAN($A2,K$1) -> #VALUE! | L2: =ROMAN($A2,L$1) -> I | M2: =ROMAN($A2,M$1) -> I | N2: =ROMAN($A2,N$1) -> #VALUE! | O2: =ROMAN($A2,O$1) -> I
A3: 5 | B3: =ROMAN(A3) -> V | C3: =ROMAN($A3,1) -> V | D3: =ROMAN($A3,2) -> V | E3: =ROMAN($A3,3) -> V | F3: =ROMAN($A3,4) -> V | G3: Basic roman number | J3: =ROMAN($A3,J$1) -> V | K3: =ROMAN($A3,K$1) -> #VALUE! | L3: =ROMAN($A3,L$1) -> V | M3: =ROMAN($A3,M$1) -> V | N3: =ROMAN($A3,N$1) -> #VALUE! | O3: =ROMAN($A3,O$1) -> V
A4: 10 | B4: =ROMAN(A4) -> X | C4: =ROMAN($A4,1) -> X | D4: =ROMAN($A4,2) -> X | E4: =ROMAN($A4,3) -> X | F4: =ROMAN($A4,4) -> X | G4: Basic roman number | J4: =ROMAN($A4,J$1) -> X | K4: =ROMAN($A4,K$1) -> #VALUE! | L4: =ROMAN($A4,L$1) -> X | M4: =ROMAN($A4,M$1) -> X | N4: =ROMAN($A4,N$1) -> #VALUE! | O4: =ROMAN($A4,O$1) -> X
A5: 50 | B5: =ROMAN(A5) -> L | C5: =ROMAN($A5,1) -> L | D5: =ROMAN($A5,2) -> L | E5: =ROMAN($A5,3) -> L | F5: =ROMAN($A5,4) -> L | G5: Basic roman number | J5: =ROMAN($A5,J$1) -> L | K5: =ROMAN($A5,K$1) -> #VALUE! | L5: =ROMAN($A5,L$1) -> L | M5: =ROMAN($A5,M$1) -> L | N5: =ROMAN($A5,N$1) -> #VALUE! | O5: =ROMAN($A5,O$1) -> L
A6: 99 | B6: =ROMAN(A6) -> XCIX | C6: =ROMAN($A6,1) -> VCIV | D6: =ROMAN($A6,2) -> IC | E6: =ROMAN($A6,3) -> IC | F6: =ROMAN($A6,4) -> IC | J6: =ROMAN($A6,J$1) -> XCIX | K6: =ROMAN($A6,K$1) -> #VALUE! | L6: =ROMAN($A6,L$1) -> XCIX | M6: =ROMAN($A6,M$1) -> IC | N6: =ROMAN($A6,N$1) -> #VALUE! | O6: =ROMAN($A6,O$1) -> IC
A7: 100 | B7: =ROMAN(A7) -> C | C7: =ROMAN($A7,1) -> C | D7: =ROMAN($A7,2) -> C | E7: =ROMAN($A7,3) -> C | F7: =ROMAN($A7,4) -> C | G7: Basic roman number | J7: =ROMAN($A7,J$1) -> C | K7: =ROMAN($A7,K$1) -> #VALUE! | L7: =ROMAN($A7,L$1) -> C | M7: =ROMAN($A7,M$1) -> C | N7: =ROMAN($A7,N$1) -> #VALUE! | O7: =ROMAN($A7,O$1) -> C
A8: 469 | B8: =ROMAN(A8) -> CDLXIX | C8: =ROMAN($A8,1) -> LDXIX | D8: =ROMAN($A8,2) -> LDXIX | E8: =ROMAN($A8,3) -> LDXIX | F8: =ROMAN($A8,4) -> LDXIX | J8: =ROMAN($A8,J$1) -> CDLXIX | K8: =ROMAN($A8,K$1) -> #VALUE! | L8: =ROMAN($A8,L$1) -> CDLXIX | M8: =ROMAN($A8,M$1) -> LDXIX | N8: =ROMAN($A8,N$1) -> #VALUE! | O8: =ROMAN($A8,O$1) -> LDXIX
A9: 499 | B9: =ROMAN(A9) -> CDXCIX | C9: =ROMAN($A9,1) -> LDVLIV | D9: =ROMAN($A9,2) -> XDIX | E9: =ROMAN($A9,3) -> VDIV | F9: =ROMAN($A9,4) -> ID | G9: Different types showcase | J9: =ROMAN($A9,J$1) -> CDXCIX | K9: =ROMAN($A9,K$1) -> #VALUE! | L9: =ROMAN($A9,L$1) -> CDXCIX | M9: =ROMAN($A9,M$1) -> ID | N9: =ROMAN($A9,N$1) -> #VALUE! | O9: =ROMAN($A9,O$1) -> XDIX
A10: 500 | B10: =ROMAN(A10) -> D | C10: =ROMAN($A10,1) -> D | D10: =ROMAN($A10,2) -> D | E10: =ROMAN($A10,3) -> D | F10: =ROMAN($A10,4) -> D | G10: Basic roman number | J10: =ROMAN($A10,J$1) -> D | K10: =ROMAN($A10,K$1) -> #VALUE! | L10: =ROMAN($A10,L$1) -> D | M10: =ROMAN($A10,M$1) -> D | N10: =ROMAN($A10,N$1) -> #VALUE! | O10: =ROMAN($A10,O$1) -> D
A11: 1000 | B11: =ROMAN(A11) -> M | C11: =ROMAN($A11,1) -> M | D11: =ROMAN($A11,2) -> M | E11: =ROMAN($A11,3) -> M | F11: =ROMAN($A11,4) -> M | G11: Basic roman number | J11: =ROMAN($A11,J$1) -> M | K11: =ROMAN($A11,K$1) -> #VALUE! | L11: =ROMAN($A11,L$1) -> M | M11: =ROMAN($A11,M$1) -> M | N11: =ROMAN($A11,N$1) -> #VALUE! | O11: =ROMAN($A11,O$1) -> M
A12: 1111 | B12: =ROMAN(A12) -> MCXI | C12: =ROMAN($A12,1) -> MCXI | D12: =ROMAN($A12,2) -> MCXI | E12: =ROMAN($A12,3) -> MCXI | F12: =ROMAN($A12,4) -> MCXI | J12: =ROMAN($A12,J$1) -> MCXI | K12: =ROMAN($A12,K$1) -> #VALUE! | L12: =ROMAN($A12,L$1) -> MCXI | M12: =ROMAN($A12,M$1) -> MCXI | N12: =ROMAN($A12,N$1) -> #VALUE! | O12: =ROMAN($A12,O$1) -> MCXI
A13: 2596 | B13: =ROMAN(A13) -> MMDXCVI | C13: =ROMAN($A13,1) -> MMDVCI | D13: =ROMAN($A13,2) -> MMDVCI | E13: =ROMAN($A13,3) -> MMDVCI | F13: =ROMAN($A13,4) -> MMDVCI | J13: =ROMAN($A13,J$1) -> MMDXCVI | K13: =ROMAN($A13,K$1) -> #VALUE! | L13: =ROMAN($A13,L$1) -> MMDXCVI | M13: =ROMAN($A13,M$1) -> MMDVCI | N13: =ROMAN($A13,N$1) -> #VALUE! | O13: =ROMAN($A13,O$1) -> MMDVCI
A14: 3999 | B14: =ROMAN(A14) -> MMMCMXCIX | C14: =ROMAN($A14,1) -> MMMLMVLIV | D14: =ROMAN($A14,2) -> MMMXMIX | E14: =ROMAN($A14,3) -> MMMVMIV | F14: =ROMAN($A14,4) -> MMMIM | G14: Before upper limit | J14: =ROMAN($A14,J$1) -> MMMCMXCIX | K14: =ROMAN($A14,K$1) -> #VALUE! | L14: =ROMAN($A14,L$1) -> MMMCMXCIX | M14: =ROMAN($A14,M$1) -> MMMIM | N14: =ROMAN($A14,N$1) -> #VALUE! | O14: =ROMAN($A14,O$1) -> MMMXMIX
A15: 4000 | B15: =ROMAN(A15) -> MMMCMXCIX | C15: =ROMAN($A15,1) -> MMMLMVLIV | D15: =ROMAN($A15,2) -> MMMXMIX | E15: =ROMAN($A15,3) -> MMMVMIV | F15: =ROMAN($A15,4) -> MMMIM | G15: Decimal number near limit | J15: =ROMAN($A15,J$1) -> MMMCMXCIX | K15: =ROMAN($A15,K$1) -> #VALUE! | L15: =ROMAN($A15,L$1) -> MMMCMXCIX | M15: =ROMAN($A15,M$1) -> MMMIM | N15: =ROMAN($A15,N$1) -> #VALUE! | O15: =ROMAN($A15,O$1) -> MMMXMIX
A16: 4000 | B16: =ROMAN(A16) -> #VALUE! | C16: =ROMAN($A16,1) -> #VALUE! | D16: =ROMAN($A16,2) -> #VALUE! | E16: =ROMAN($A16,3) -> #VALUE! | F16: =ROMAN($A16,4) -> #VALUE! | G16: Upper limit | J16: =ROMAN($A16,J$1) -> #VALUE! | K16: =ROMAN($A16,K$1) -> #VALUE! | L16: =ROMAN($A16,L$1) -> #VALUE! | M16: =ROMAN($A16,M$1) -> #VALUE! | N16: =ROMAN($A16,N$1) -> #VALUE! | O16: =ROMAN($A16,O$1) -> #VALUE!
A17: -13 | B17: =ROMAN(A17) -> #VALUE! | C17: =ROMAN($A17,1) -> #VALUE! | D17: =ROMAN($A17,2) -> #VALUE! | E17: =ROMAN($A17,3) -> #VALUE! | F17: =ROMAN($A17,4) -> #VALUE! | G17: Negative number | J17: =ROMAN($A17,J$1) -> #VALUE! | K17: =ROMAN($A17,K$1) -> #VALUE! | L17: =ROMAN($A17,L$1) -> #VALUE! | M17: =ROMAN($A17,M$1) -> #VALUE! | N17: =ROMAN($A17,N$1) -> #VALUE! | O17: =ROMAN($A17,O$1) -> #VALUE!
A18: 5.32 | B18: =ROMAN(A18) -> V | C18: =ROMAN($A18,1) -> V | D18: =ROMAN($A18,2) -> V | E18: =ROMAN($A18,3) -> V | F18: =ROMAN($A18,4) -> V | G18: Decimal number | J18: =ROMAN($A18,J$1) -> V | K18: =ROMAN($A18,K$1) -> #VALUE! | L18: =ROMAN($A18,L$1) -> V | M18: =ROMAN($A18,M$1) -> V | N18: =ROMAN($A18,N$1) -> #VALUE! | O18: =ROMAN($A18,O$1) -> V
A19: 0.3 | B19: =ROMAN(A19) | C19: =ROMAN($A19,1) | D19: =ROMAN($A19,2) | E19: =ROMAN($A19,3) | F19: =ROMAN($A19,4) | G19: Small decimal number | J19: =ROMAN($A19,J$1) | K19: * | L19: =ROMAN($A19,L$1) | M19: =ROMAN($A19,M$1) | N19: * | O19: =ROMAN($A19,O$1)
A20: 5.99999 | B20: =ROMAN(A20) -> V | C20: =ROMAN($A20,1) -> V | D20: =ROMAN($A20,2) -> V | E20: =ROMAN($A20,3) -> V | F20: =ROMAN($A20,4) -> V | G20: Decimal number | J20: =ROMAN($A20,J$1) -> V | K20: =ROMAN($A20,K$1) -> #VALUE! | L20: =ROMAN($A20,L$1) -> V | M20: =ROMAN($A20,M$1) -> V | N20: =ROMAN($A20,N$1) -> #VALUE! | O20: =ROMAN($A20,O$1) -> V
A21: -1.2 | B21: =ROMAN(A21) -> #VALUE! | C21: =ROMAN($A21,1) -> #VALUE! | D21: =ROMAN($A21,2) -> #VALUE! | E21: =ROMAN($A21,3) -> #VALUE! | F21: =ROMAN($A21,4) -> #VALUE! | G21: Negative decimal number | J21: =ROMAN($A21,J$1) -> #VALUE! | K21: =ROMAN($A21,K$1) -> #VALUE! | L21: =ROMAN($A21,L$1) -> #VALUE! | M21: =ROMAN($A21,M$1) -> #VALUE! | N21: =ROMAN($A21,N$1) -> #VALUE! | O21: =ROMAN($A21,O$1) -> #VALUE!
A22: =PI() -> 3.1415927 | B22: =ROMAN(A22) -> III | C22: =ROMAN($A22,1) -> III | D22: =ROMAN($A22,2) -> III | E22: =ROMAN($A22,3) -> III | F22: =ROMAN($A22,4) -> III | G22: Periodic number from formula | J22: =ROMAN($A22,J$1) -> III | K22: =ROMAN($A22,K$1) -> #VALUE! | L22: =ROMAN($A22,L$1) -> III | M22: =ROMAN($A22,M$1) -> III | N22: =ROMAN($A22,N$1) -> #VALUE! | O22: =ROMAN($A22,O$1) -> III
A23: 0 | B23: =ROMAN(A23) | C23: =ROMAN($A23,1) | D23: =ROMAN($A23,2) | E23: =ROMAN($A23,3) | F23: =ROMAN($A23,4) | G23: Zero | J23: =ROMAN($A23,J$1) | K23: * | L23: =ROMAN($A23,L$1) | M23: =ROMAN($A23,M$1) | N23: * | O23: =ROMAN($A23,O$1)
A24: eight | B24: =ROMAN(A24) -> #VALUE! | C24: =ROMAN($A24,1) -> #VALUE! | D24: =ROMAN($A24,2) -> #VALUE! | E24: =ROMAN($A24,3) -> #VALUE! | F24: =ROMAN($A24,4) -> #VALUE! | G24: Non-numeric string | J24: =ROMAN($A24,J$1) -> #VALUE! | K24: =ROMAN($A24,K$1) -> #VALUE! | L24: =ROMAN($A24,L$1) -> #VALUE! | M24: =ROMAN($A24,M$1) -> #VALUE! | N24: =ROMAN($A24,N$1) -> #VALUE! | O24: =ROMAN($A24,O$1) -> #VALUE!
A25: 16 | B25: =ROMAN(A25) -> XVI | C25: =ROMAN($A25,1) -> XVI | D25: =ROMAN($A25,2) -> XVI | E25: =ROMAN($A25,3) -> XVI | F25: =ROMAN($A25,4) -> XVI | G25: Numeric string | J25: =ROMAN($A25,J$1) -> XVI | K25: =ROMAN($A25,K$1) -> #VALUE! | L25: =ROMAN($A25,L$1) -> XVI | M25: =ROMAN($A25,M$1) -> XVI | N25: =ROMAN($A25,N$1) -> #VALUE! | O25: =ROMAN($A25,O$1) -> XVI
A26: " 16" | B26: =ROMAN(A26) -> #VALUE! | C26: =ROMAN($A26,1) -> #VALUE! | D26: =ROMAN($A26,2) -> #VALUE! | E26: =ROMAN($A26,3) -> #VALUE! | F26: =ROMAN($A26,4) -> #VALUE! | G26: Numeric string with leading space | J26: =ROMAN($A26,J$1) -> #VALUE! | K26: =ROMAN($A26,K$1) -> #VALUE! | L26: =ROMAN($A26,L$1) -> #VALUE! | M26: =ROMAN($A26,M$1) -> #VALUE! | N26: =ROMAN($A26,N$1) -> #VALUE! | O26: =ROMAN($A26,O$1) -> #VALUE!
A27: "16" | B27: =ROMAN(A27) -> #VALUE! | C27: =ROMAN($A27,1) -> #VALUE! | D27: =ROMAN($A27,2) -> #VALUE! | E27: =ROMAN($A27,3) -> #VALUE! | F27: =ROMAN($A27,4) -> #VALUE! | G27: Numeric string in quotes | J27: =ROMAN($A27,J$1) -> #VALUE! | K27: =ROMAN($A27,K$1) -> #VALUE! | L27: =ROMAN($A27,L$1) -> #VALUE! | M27: =ROMAN($A27,M$1) -> #VALUE! | N27: =ROMAN($A27,N$1) -> #VALUE! | O27: =ROMAN($A27,O$1) -> #VALUE!
A28: 126 | B28: =ROMAN(A28) -> CXXVI | C28: =ROMAN($A28,1) -> CXXVI | D28: =ROMAN($A28,2) -> CXXVI | E28: =ROMAN($A28,3) -> CXXVI | F28: =ROMAN($A28,4) -> CXXVI | G28: Date within range | J28: =ROMAN($A28,J$1) -> CXXVI | K28: =ROMAN($A28,K$1) -> #VALUE! | L28: =ROMAN($A28,L$1) -> CXXVI | M28: =ROMAN($A28,M$1) -> CXXVI | N28: =ROMAN($A28,N$1) -> #VALUE! | O28: =ROMAN($A28,O$1) -> CXXVI
A29: 45854 | B29: =ROMAN(A29) -> #VALUE! | C29: =ROMAN($A29,1) -> #VALUE! | D29: =ROMAN($A29,2) -> #VALUE! | E29: =ROMAN($A29,3) -> #VALUE! | F29: =ROMAN($A29,4) -> #VALUE! | G29: Date out of range | J29: =ROMAN($A29,J$1) -> #VALUE! | K29: =ROMAN($A29,K$1) -> #VALUE! | L29: =ROMAN($A29,L$1) -> #VALUE! | M29: =ROMAN($A29,M$1) -> #VALUE! | N29: =ROMAN($A29,N$1) -> #VALUE! | O29: =ROMAN($A29,O$1) -> #VALUE!
B30: =ROMAN(A30) | C30: =ROMAN($A30,1) | D30: =ROMAN($A30,2) | E30: =ROMAN($A30,3) | F30: =ROMAN($A30,4) | G30: Empty state | J30: =ROMAN($A30,J$1) | K30: * | L30: =ROMAN($A30,L$1) | M30: =ROMAN($A30,M$1) | N30: * | O30: =ROMAN($A30,O$1) | P30: *yellow cells with failing test have been removed
A31: "" | B31: =ROMAN(A31) -> #VALUE! | C31: =ROMAN($A31,1) -> #VALUE! | D31: =ROMAN($A31,2) -> #VALUE! | E31: =ROMAN($A31,3) -> #VALUE! | F31: =ROMAN($A31,4) -> #VALUE! | G31: Empty string | J31: =ROMAN($A31,J$1) -> #VALUE! | K31: =ROMAN($A31,K$1) -> #VALUE! | L31: =ROMAN($A31,L$1) -> #VALUE! | M31: =ROMAN($A31,M$1) -> #VALUE! | N31: =ROMAN($A31,N$1) -> #VALUE! | O31: =ROMAN($A31,O$1) -> #VALUE!
A32: =1/0 -> #DIV/0! | B32: =ROMAN(A32) -> #DIV/0! | C32: =ROMAN($A32,1) -> #DIV/0! | D32: =ROMAN($A32,2) -> #DIV/0! | E32: =ROMAN($A32,3) -> #DIV/0! | F32: =ROMAN($A32,4) -> #DIV/0! | G32: Correct Error propagation | J32: =ROMAN($A32,J$1) -> #DIV/0! | K32: =ROMAN($A32,K$1) -> #DIV/0! | L32: =ROMAN($A32,L$1) -> #DIV/0! | M32: =ROMAN($A32,M$1) -> #DIV/0! | N32: =ROMAN($A32,N$1) -> #DIV/0! | O32: =ROMAN($A32,O$1) -> #DIV/0!
A33: =NA() -> #N/A | B33: =ROMAN(A33) -> #N/A | C33: =ROMAN($A33,1) -> #N/A | D33: =ROMAN($A33,2) -> #N/A | E33: =ROMAN($A33,3) -> #N/A | F33: =ROMAN($A33,4) -> #N/A | G33: Correct Error propagation | J33: =ROMAN($A33,J$1) -> #N/A | K33: =ROMAN($A33,K$1) -> #N/A | L33: =ROMAN($A33,L$1) -> #N/A | M33: =ROMAN($A33,M$1) -> #N/A | N33: =ROMAN($A33,N$1) -> #N/A | O33: =ROMAN($A33,O$1) -> #N/A
A34: TRUE | B34: =ROMAN(A34) -> I | C34: =ROMAN($A34,1) -> I | D34: =ROMAN($A34,2) -> I | E34: =ROMAN($A34,3) -> I | F34: =ROMAN($A34,4) -> I | G34: Boolean | H34: 2 | J34: =ROMAN($A34,J$1) -> I | K34: =ROMAN($A34,K$1) -> #VALUE! | L34: =ROMAN($A34,L$1) -> I | M34: =ROMAN($A34,M$1) -> I | N34: =ROMAN($A34,N$1) -> #VALUE! | O34: =ROMAN($A34,O$1) -> I
A35: FALSE | B35: =ROMAN(A35) | C35: =ROMAN($A35,1) | D35: =ROMAN($A35,2) | E35: =ROMAN($A35,3) | F35: =ROMAN($A35,4) | G35: Boolean | H35: 3 | J35: =ROMAN($A35,J$1) | K35: * | L35: =ROMAN($A35,L$1) | M35: =ROMAN($A35,M$1) | N35: * | O35: =ROMAN($A35,O$1)
A36: =H34:H37 -> 4 | B36: =ROMAN(H34:H37) -> IV | C36: =ROMAN(H34:H37,1) -> IV | D36: =ROMAN(H34:H37,2) -> IV | E36: =ROMAN(H34:H37,3) -> IV | F36: =ROMAN(H34:H37,4) -> IV | G36: Implicit intersection | H36: 4
A37: =1.05*(0.0284+0.0046)-0.0284 -> 0.00625 | B37: =ROMAN(A37) | C37: =ROMAN($A37,1) | D37: =ROMAN($A37,2) | E37: =ROMAN($A37,3) | F37: =ROMAN($A37,4) | G37: Result from a formula | H37: 5 | J37: Zero | K37: Out of bounds | L37: Boolean | M37: Boolean | N37: String | O37: Numeric string
A40: ALL NUMBERS 1 TO 4000
A41: 1 | B41: =ROMAN(A41) -> I | C41: =ROMAN($A41,1) -> I | D41: =ROMAN($A41,2) -> I | E41: =ROMAN($A41,3) -> I | F41: =ROMAN($A41,4) -> I
A42: 2 | B42: =ROMAN(A42) -> II | C42: =ROMAN($A42,1) -> II | D42: =ROMAN($A42,2) -> II | E42: =ROMAN($A42,3) -> II | F42: =ROMAN($A42,4) -> II
...

Sheet ARABIC
A1: Number | B1: ARABIC | C1: NOTES
A2: I | B2: =_xlfn.ARABIC(A2) -> 1 | C2: Basic roman number
A3: V | B3: =_xlfn.ARABIC(A3) -> 5 | C3: Basic roman number
A4: X | B4: =_xlfn.ARABIC(A4) -> 10 | C4: Basic roman number
A5: L | B5: =_xlfn.ARABIC(A5) -> 50 | C5: Basic roman number
A6: C | B6: =_xlfn.ARABIC(A6) -> 100 | C6: Basic roman number
A7: D | B7: =_xlfn.ARABIC(A7) -> 500 | C7: Basic roman number
A8: M | B8: =_xlfn.ARABIC(A8) -> 1000 | C8: Basic roman number
A9: A | B9: =_xlfn.ARABIC(A9) -> #VALUE! | C9: Not a roman number
A10: B | B10: =_xlfn.ARABIC(A10) -> #VALUE! | C10: Not a roman number
A11: ixix | B11: =_xlfn.ARABIC(A11) -> 18 | C11: Lowercase
A12: XIXI | B12: =_xlfn.ARABIC(A12) -> 20 | C12: Non standard
A13: IM | B13: =_xlfn.ARABIC(A13) -> 999 | C13: Non standard
... A16: a | B16: =_xlfn.ARABIC(A16) -> #VALUE! | C16: Lowercase invalid
A17: {=-MMXI} -> #NAME? | B17: =_xlfn.ARABIC(A17) -> #NAME? | C17: Negative number
A18: "-X" | B18: =_xlfn.ARABIC(A18) -> #VALUE! | C18: Negative number
A19: IC | B19: =_xlfn.ARABIC(A19) -> 99 | C19: Valid roman number
A20: ICIC | B20: =_xlfn.ARABIC(A20) -> 198 | C20: Valid roman number
A21: CDXCIX | B21: =_xlfn.ARABIC(A21) -> 499 | C21: Form showcase
A22: LDVLIV | B22: =_xlfn.ARABIC(A22) -> 499 | C22: Form showcase
A23: XDIX | B23: =_xlfn.ARABIC(A23) -> 499 | C23: Form showcase
A24: VDIV | B24: =_xlfn.ARABIC(A24) -> 499 | C24: Form showcase
A25: ID | B25: =_xlfn.ARABIC(A25) -> 499 | C25: Form showcase
A26: MMMCMXCIX | B26: =_xlfn.ARABIC(A26) -> 3999 | C26: Below upper limit
A27: 0 | B27: =_xlfn.ARABIC(A27) -> #VALUE! | C27: Zero
A28: Ⅻ | B28: =_xlfn.ARABIC(A28) -> #VALUE! | C28: Unicode roman number
A29: eight | B29: =_xlfn.ARABIC(A29) -> #VALUE! | C29: Non-numeric string
A30: X | B30: =_xlfn.ARABIC(A30) -> 10 | C30: Numeric string
A31: " X" | B31: =_xlfn.ARABIC(A31) -> #VALUE! | C31: Numeric string with leading space
A32: "X" | B32: =_xlfn.ARABIC(A32) -> #VALUE! | C32: Numeric string in quotes
A33: 1000000 | B33: =_xlfn.ARABIC(A33) -> #VALUE!
A34: 126 | B34: =_xlfn.ARABIC(A34) -> #VALUE! | C34: Date within range
A35: 45854 | B35: =_xlfn.ARABIC(A35) -> #VALUE! | C35: Date out of range
A36: "" | B36: =_xlfn.ARABIC(A36) -> #VALUE! | C36: Empty string
A37: =1/0 -> #DIV/0! | B37: =_xlfn.ARABIC(A37) -> #DIV/0! | C37: Error propagation
A38: =NA() -> #N/A | B38: =_xlfn.ARABIC(A38) -> #N/A | C38: Error propagation
A39: TRUE | B39: =_xlfn.ARABIC(A39) -> #VALUE! | C39: Boolean | E39: I
A40: FALSE | B40: =_xlfn.ARABIC(A40) -> #VALUE! | C40: Boolean | E40: L
A41: =E39:E42 -> X | B41: =_xlfn.ARABIC(E39:E42) -> 10 | C41: Implicit intersection | E41: X
A42: =1.05*(0.0284+0.0046)-0.0284 -> 0.00625 | B42: =_xlfn.ARABIC(A42) -> #VALUE! | C42: Result from a formula | E42: D
...
